Workbook

Sheet İzin Planı
B1: Yıllık İzin Planı
B2: Departman: [Departman] · Plan yılı: [Yıl] · Hazırlayan: [Ad Soyad]
B3: ikpartner.com · Ücretsiz İK şablonu · 0538 949 22 87
A5: Sıra | B5: Sicil No | C5: Ad Soyad | D5: Görev | E5: Kullanılabilir İzin (gün) | F5: 1. Dönem Başlangıç | G5: 1. Dönem Bitiş | H5: 1. Dönem Gün | I5: 2. Dönem Başlangıç | J5: 2. Dönem Bitiş | K5: 2. Dönem Gün | L5: 3. Dönem Başlangıç | M5: 3. Dönem Bitiş | N5: 3. Dönem Gün | O5: Planlanan Toplam | P5: Plan Dışı Kalan | Q5: 10 Gün Kuralı | R5: Vekil / Yedek | S5: Çalışan Onayı | T5: Yönetici Onayı
A6: 1 | B6: 1001 | C6: Örnek Çalışan A | D6: Satış Uzmanı | E6: 20 | F6: 46573 | G6: 46584 | H6: 10 | I6: 46748 | J6: 46752 | K6: 5 | O6: =IF(C6="","",N(H6)+N(K6)+N(N6)) | P6: =IF(C6="","",N(E6)-N(O6)) | Q6: =IF(OR(C6="",N(O6)=0),"",IF(MAX(N(H6),N(K6),N(N6))>=10,"Uygun","Kontrol")) | R6: Örnek Çalışan E | S6: Evet | T6: Onaylandı
A7: 2 | B7: 1002 | C7: Örnek Çalışan B | D7: Satış Uzmanı | E7: 14 | F7: 46496 | G7: 46499 | H7: 4 | I7: 46580 | J7: 46591 | K7: 10 | O7: =IF(C7="","",N(H7)+N(K7)+N(N7)) | P7: =IF(C7="","",N(E7)-N(O7)) | Q7: =IF(OR(C7="",N(O7)=0),"",IF(MAX(N(H7),N(K7),N(N7))>=10,"Uygun","Kontrol")) | R7: Örnek Çalışan D | S7: Evet | T7: Onaylandı
A8: 3 | B8: 1003 | C8: Örnek Çalışan C | D8: Bölge Sorumlusu | E8: 26 | F8: 46580 | G8: 46598 | H8: 15 | I8: 46706 | J8: 46717 | K8: 10 | O8: =IF(C8="","",N(H8)+N(K8)+N(N8)) | P8: =IF(C8="","",N(E8)-N(O8)) | Q8: =IF(OR(C8="",N(O8)=0),"",IF(MAX(N(H8),N(K8),N(N8))>=10,"Uygun","Kontrol")) | R8: Örnek Çalışan A | S8: Evet | T8: Revize
A9: 4 | B9: 1004 | C9: Örnek Çalışan D | D9: Satış Destek | E9: 20 | F9: 46426 | G9: 46430 | H9: 5 | I9: 46615 | J9: 46626 | K9: 10 | O9: =IF(C9="","",N(H9)+N(K9)+N(N9)) | P9: =IF(C9="","",N(E9)-N(O9)) | Q9: =IF(OR(C9="",N(O9)=0),"",IF(MAX(N(H9),N(K9),N(N9))>=10,"Uygun","Kontrol")) | R9: Örnek Çalışan B | S9: Evet | T9: Beklemede
A10: 5 | B10: 1005 | C10: Örnek Çalışan E | D10: Satış Destek | E10: 14 | F10: 46524 | G10: 46528 | H10: 5 | I10: 46636 | J10: 46639 | K10: 4 | O10: =IF(C10="","",N(H10)+N(K10)+N(N10)) | P10: =IF(C10="","",N(E10)-N(O10)) | Q10: =IF(OR(C10="",N(O10)=0),"",IF(MAX(N(H10),N(K10),N(N10))>=10,"Uygun","Kontrol")) | R10: Örnek Çalışan A | S10: Hayır | T10: Beklemede
A11: 6 | O11: =IF(C11="","",N(H11)+N(K11)+N(N11)) | P11: =IF(C11="","",N(E11)-N(O11)) | Q11: =IF(OR(C11="",N(O11)=0),"",IF(MAX(N(H11),N(K11),N(N11))>=10,"Uygun","Kontrol"))
A12: 7 | O12: =IF(C12="","",N(H12)+N(K12)+N(N12)) | P12: =IF(C12="","",N(E12)-N(O12)) | Q12: =IF(OR(C12="",N(O12)=0),"",IF(MAX(N(H12),N(K12),N(N12))>=10,"Uygun","Kontrol"))
A13: 8 | O13: =IF(C13="","",N(H13)+N(K13)+N(N13)) | P13: =IF(C13="","",N(E13)-N(O13)) | Q13: =IF(OR(C13="",N(O13)=0),"",IF(MAX(N(H13),N(K13),N(N13))>=10,"Uygun","Kontrol"))
A14: 9 | O14: =IF(C14="","",N(H14)+N(K14)+N(N14)) | P14: =IF(C14="","",N(E14)-N(O14)) | Q14: =IF(OR(C14="",N(O14)=0),"",IF(MAX(N(H14),N(K14),N(N14))>=10,"Uygun","Kontrol"))
A15: 10 | O15: =IF(C15="","",N(H15)+N(K15)+N(N15)) | P15: =IF(C15="","",N(E15)-N(O15)) | Q15: =IF(OR(C15="",N(O15)=0),"",IF(MAX(N(H15),N(K15),N(N15))>=10,"Uygun","Kontrol"))
A16: 11 | O16: =IF(C16="","",N(H16)+N(K16)+N(N16)) | P16: =IF(C16="","",N(E16)-N(O16)) | Q16: =IF(OR(C16="",N(O16)=0),"",IF(MAX(N(H16),N(K16),N(N16))>=10,"Uygun","Kontrol"))
A17: 12 | O17: =IF(C17="","",N(H17)+N(K17)+N(N17)) | P17: =IF(C17="","",N(E17)-N(O17)) | Q17: =IF(OR(C17="",N(O17)=0),"",IF(MAX(N(H17),N(K17),N(N17))>=10,"Uygun","Kontrol"))
A18: 13 | O18: =IF(C18="","",N(H18)+N(K18)+N(N18)) | P18: =IF(C18="","",N(E18)-N(O18)) | Q18: =IF(OR(C18="",N(O18)=0),"",IF(MAX(N(H18),N(K18),N(N18))>=10,"Uygun","Kontrol"))
A19: 14 | O19: =IF(C19="","",N(H19)+N(K19)+N(N19)) | P19: =IF(C19="","",N(E19)-N(O19)) | Q19: =IF(OR(C19="",N(O19)=0),"",IF(MAX(N(H19),N(K19),N(N19))>=10,"Uygun","Kontrol"))
A20: 15 | O20: =IF(C20="","",N(H20)+N(K20)+N(N20)) | P20: =IF(C20="","",N(E20)-N(O20)) | Q20: =IF(OR(C20="",N(O20)=0),"",IF(MAX(N(H20),N(K20),N(N20))>=10,"Uygun","Kontrol"))
A21: 16 | O21: =IF(C21="","",N(H21)+N(K21)+N(N21)) | P21: =IF(C21="","",N(E21)-N(O21)) | Q21: =IF(OR(C21="",N(O21)=0),"",IF(MAX(N(H21),N(K21),N(N21))>=10,"Uygun","Kontrol"))
A22: 17 | O22: =IF(C22="","",N(H22)+N(K22)+N(N22)) | P22: =IF(C22="","",N(E22)-N(O22)) | Q22: =IF(OR(C22="",N(O22)=0),"",IF(MAX(N(H22),N(K22),N(N22))>=10,"Uygun","Kontrol"))
... A35: 30 | O35: =IF(C35="","",N(H35)+N(K35)+N(N35)) | P35: =IF(C35="","",N(E35)-N(O35)) | Q35: =IF(OR(C35="",N(O35)=0),"",IF(MAX(N(H35),N(K35),N(N35))>=10,"Uygun","Kontrol"))
A36: TOPLAM | E36: =SUM(E6:E35) | O36: =SUM(O6:O35) | P36: =SUM(P6:P35)

Sheet Yıllık Görünüm
B1: Yıllık İzin Planı
B2: Her sütun bir haftadır (H1 = Özet sayfasındaki takvim başlangıcı). İ = izinli · kırmızı = izinli sayısı sınırı aşan hafta
B3: ikpartner.com · Ücretsiz İK şablonu · 0538 949 22 87
A5: Sıra | B5: Ad Soyad | C5: H1 | D5: H2 | E5: H3 | F5: H4 | G5: H5 | H5: H6 | I5: H7 | J5: H8 | K5: H9 | L5: H10 | M5: H11 | N5: H12 | O5: H13 | P5: H14 | Q5: H15 | R5: H16 | S5: H17 | T5: H18 | U5: H19 | V5: H20 | W5: H21 | X5: H22 | Y5: H23 | Z5: H24 | AA5: H25 | AB5: H26 | AC5: H27 | AD5: H28 | AE5: H29 | AF5: H30 | AG5: H31 | AH5: H32 | AI5: H33 | AJ5: H34 | AK5: H35 | AL5: H36 | AM5: H37 | AN5: H38 | AO5: H39 | AP5: H40 | AQ5: H41 | AR5: H42 | AS5: H43 | AT5: H44 | AU5: H45 | AV5: H46 | AW5: H47 | AX5: H48 | AY5: H49 | AZ5: H50 | BA5: H51 | BB5: H52 | BC5: H53
A6: 1 | B6: =IF(INDEX('İzin Planı'!$C$6:$C$35,6-5)="","",INDEX('İzin Planı'!$C$6:$C$35,6-5)) | C6: =IF(INDEX('İzin Planı'!$C$6:$C$35,6-5)="","",IF(OR(AND(N(INDEX('İzin Planı'!$F$6:$F$35,6-5))>0,INDEX('İzin Planı'!$F$6:$F$35,6-5)<=('Özet'!$C$6+7*0)+6,INDEX('İzin Planı'!$G$6:$G$35,6-5)>=('Özet'!$C$6+7*0)),AND(N(INDEX('İzin Planı'!$I$6:$I$35,6-5))>0,INDEX('İzin Planı'!$I$6:$I$35,6-5)<=('Özet'!$C$6+7*0)+6,INDEX('İzin Planı'!$J$6:$J$35,6-5)>=('Özet'!$C$6+7*0)),AND(N(INDEX('İzin Planı'!$L$6:$L$35,6-5))>0,INDEX('İzin Planı'!$L$6:$L$35,6-5)<=('Özet'!$C$6+7*0)+6,INDEX('İzin Planı'!$M$6:$M$35,6-5)>=('Özet'!$C$6+7*0))),"İ","")) | D6: =IF(INDEX('İzin Planı'!$C$6:$C$35,6-5)="","",IF(OR(AND(N(INDEX('İzin Planı'!$F$6:$F$35,6-5))>0,INDEX('İzin Planı'!$F$6:$F$35,6-5)<=('Özet'!$C$6+7*1)+6,INDEX('İzin Planı'!$G$6:$G$35,6-5)>=('Özet'!$C$6+7*1)),AND(N(INDEX('İzin Planı'!$I$6:$I$35,6-5))>0,INDEX('İzin Planı'!$I$6:$I$35,6-5)<=('Özet'!$C$6+7*1)+6,INDEX('İzin Planı'!$J$6:$J$35,6-5)>=('Özet'!$C$6+7*1)),AND(N(INDEX('İzin Planı'!$L$6:$L$35,6-5))>0,INDEX('İzin Planı'!$L$6:$L$35,6-5)<=('Özet'!$C$6+7*1)+6,INDEX('İzin Planı'!$M$6:$M$35,6-5)>=('Özet'!$C$6+7*1))),"İ","")) | E6: =IF(INDEX('İzin Planı'!$C$6:$C$35,6-5)="","",IF(OR(AND(N(INDEX('İzin Planı'!$F$6:$F$35,6-5))>0,INDEX('İzin Planı'!$F$6:$F$35,6-5)<=('Özet'!$C$6+7*2)+6,INDEX('İzin Planı'!$G$6:$G$35,6-5)>=('Özet'!$C$6+7*2)),AND(N(INDEX('İzin Planı'!$I$6:$I$35,6-5))>0,INDEX('İzin Planı'!$I$6:$I$35,6-5)<=('Özet'!$C$6+7*2)+6,INDEX('İzin Planı'!$J$6:$J$35,6-5)>=('Özet'!$C$6+7*2)),AND(N(INDEX('İzin Planı'!$L$6:$L$35,6-5))>0,INDEX('İzin Planı'!$L$6:$L$35,6-5)<=('Özet'!$C$6+7*2)+6,INDEX('İzin Planı'!$M$6:$M$35,6-5)>=('Özet'!$C$6+7*2))),"İ","")) | F6: =IF(INDEX('İzin Planı'!$C$6:$C$35,6-5)="","",IF(OR(AND(N(INDEX('İzin Planı'!$F$6:$F$35,6-5))>0,INDEX('İzin Planı'!$F$6:$F$35,6-5)<=('Özet'!$C$6+7*3)+6,INDEX('İzin Planı'!$G$6:$G$35,6-5)>=('Özet'!$C$6+7*3)),AND(N(INDEX('İzin Planı'!$I$6:$I$35,6-5))>0,INDEX('İzin Planı'!$I$6:$I$35,6-5)<=('Özet'!$C$6+7*3)+6,INDEX('İzin Planı'!$J$6:$J$35,6-5)>=('Özet'!$C$6+7*3)),AND(N(INDEX('İzin Planı'!$L$6:$L$35,6-5))>0,INDEX('İzin Planı'!$L$6:$L$35,6-5)<=('Özet'!$C$6+7*3)+6,INDEX('İzin Planı'!$M$6:$M$35,6-5)>=('Özet'!$C$6+7*3))),"İ","")) | G6: =IF(INDEX('İzin Planı'!$C$6:$C$35,6-5)="","",IF(OR(AND(N(INDEX('İzin Planı'!$F$6:$F$35,6-5))>0,INDEX('İzin Planı'!$F$6:$F$35,6-5)<=('Özet'!$C$6+7*4)+6,INDEX('İzin Planı'!$G$6:$G$35,6-5)>=('Özet'!$C$6+7*4)),AND(N(INDEX('İzin Planı'!$I$6:$I$35,6-5))>0,INDEX('İzin Planı'!$I$6:$I$35,6-5)<=('Özet'!$C$6+7*4)+6,INDEX('İzin Planı'!$J$6:$J$35,6-5)>=('Özet'!$C$6+7*4)),AND(N(INDEX('İzin Planı'!$L$6:$L$35,6-5))>0,INDEX('İzin Planı'!$L$6:$L$35,6-5)<=('Özet'!$C$6+7*4)+6,INDEX('İzin Planı'!$M$6:$M$35,6-5)>=('Özet'!$C$6+7*4))),"İ","")) | H6: =IF(INDEX('İzin Planı'!$C$6:$C$35,6-5)="","",IF(OR(AND(N(INDEX('İzin Planı'!$F$6:$F$35,6-5))>0,INDEX('İzin Planı'!$F$6:$F$35,6-5)<=('Özet'!$C$6+7*5)+6,INDEX('İzin Planı'!$G$6:$G$35,6-5)>=('Özet'!$C$6+7*5)),AND(N(INDEX('İzin Planı'!$I$6:$I$35,6-5))>0,INDEX('İzin Planı'!$I$6:$I$35,6-5)<=('Özet'!$C$6+7*5)+6,INDEX('İzin Planı'!$J$6:$J$35,6-5)>=('Özet'!$C$6+7*5)),AND(N(INDEX('İzin Planı'!$L$6:$L$35,6-5))>0,INDEX('İzin Planı'!$L$6:$L$35,6-5)<=('Özet'!$C$6+7*5)+6,INDEX('İzin Planı'!$M$6:$M$35,6-5)>=('Özet'!$C$6+7*5))),"İ","")) | I6: =IF(INDEX('İzin Planı'!$C$6:$C$35,6-5)="","",IF(OR(AND(N(INDEX('İzin Planı'!$F$6:$F$35,6-5))>0,INDEX('İzin Planı'!$F$6:$F$35,6-5)<=('Özet'!$C$6+7*6)+6,INDEX('İzin Planı'!$G$6:$G$35,6-5)>=('Özet'!$C$6+7*6)),AND(N(INDEX('İzin Planı'!$I$6:$I$35,6-5))>0,INDEX('İzin Planı'!$I$6:$I$35,6-5)<=('Özet'!$C$6+7*6)+6,INDEX('İzin Planı'!$J$6:$J$35,6-5)>=('Özet'!$C$6+7*6)),AND(N(INDEX('İzin Planı'!$L$6:$L$35,6-5))>0,INDEX('İzin Planı'!$L$6:$L$35,6-5)<=('Özet'!$C$6+7*6)+6,INDEX('İzin Planı'!$M$6:$M$35,6-5)>=('Özet'!$C$6+7*6))),"İ","")) | J6: =IF(INDEX('İzin Planı'!$C$6:$C$35,6-5)="","",IF(OR(AND(N(INDEX('İzin Planı'!$F$6:$F$35,6-5))>0,INDEX('İzin Planı'!$F$6:$F$35,6-5)<=('Özet'!$C$6+7*7)+6,INDEX('İzin Planı'!$G$6:$G$35,6-5)>=('Özet'!$C$6+7*7)),AND(N(INDEX('İzin Planı'!$I$6:$I$35,6-5))>0,INDEX('İzin Planı'!$I$6:$I$35,6-5)<=('Özet'!$C$6+7*7)+6,INDEX('İzin Planı'!$J$6:$J$35,6-5)>=('Özet'!$C$6+7*7)),AND(N(INDEX('İzin Planı'!$L$6:$L$35,6-5))>0,INDEX('İzin Planı'!$L$6:$L$35,6-5)<=('Özet'!$C$6+7*7)+6,INDEX('İzin Planı'!$M$6:$M$35,6-5)>=('Özet'!$C$6+7*7))),"İ","")) | K6: =IF(INDEX('İzin Planı'!$C$6:$C$35,6-5)="","",IF(OR(AND(N(INDEX('İzin Planı'!$F$6:$F$35,6-5))>0,INDEX('İzin Planı'!$F$6:$F$35,6-5)<=('Özet'!$C$6+7*8)+6,INDEX('İzin Planı'!$G$6:$G$35,6-5)>=('Özet'!$C$6+7*8)),AND(N(INDEX('İzin Planı'!$I$6:$I$35,6-5))>0,INDEX('İzin Planı'!$I$6:$I$35,6-5)<=('Özet'!$C$6+7*8)+6,INDEX('İzin Planı'!$J$6:$J$35,6-5)>=('Özet'!$C$6+7*8)),AND(N(INDEX('İzin Planı'!$L$6:$L$35,6-5))>0,INDEX('İzin Planı'!$L$6:$L$35,6-5)<=('Özet'!$C$6+7*8)+6,INDEX('İzin Planı'!$M$6:$M$35,6-5)>=('Özet'!$C$6+7*8))),"İ","")) | L6: =IF(INDEX('İzin Planı'!$C$6:$C$35,6-5)="","",IF(OR(AND(N(INDEX('İzin Planı'!$F$6:$F$35,6-5))>0,INDEX('İzin Planı'!$F$6:$F$35,6-5)<=('Özet'!$C$6+7*9)+6,INDEX('İzin Planı'!$G$6:$G$35,6-5)>=('Özet'!$C$6+7*9)),AND(N(INDEX('İzin Planı'!$I$6:$I$35,6-5))>0,INDEX('İzin Planı'!$I$6:$I$35,6-5)<=('Özet'!$C$6+7*9)+6,INDEX('İzin Planı'!$J$6:$J$35,6-5)>=('Özet'!$C$6+7*9)),AND(N(INDEX('İzin Planı'!$L$6:$L$35,6-5))>0,INDEX('İzin Planı'!$L$6:$L$35,6-5)<=('Özet'!$C$6+7*9)+6,INDEX('İzin Planı'!$M$6:$M$35,6-5)>=('Özet'!$C$6+7*9))),"İ","")) | M6: =IF(INDEX('İzin Planı'!$C$6:$C$35,6-5)="","",IF(OR(AND(N(INDEX('İzin Planı'!$F$6:$F$35,6-5))>0,INDEX('İzin Planı'!$F$6:$F$35,6-5)<=('Özet'!$C$6+7*10)+6,INDEX('İzin Planı'!$G$6:$G$35,6-5)>=('Özet'!$C$6+7*10)),AND(N(INDEX('İzin Planı'!$I$6:$I$35,6-5))>0,INDEX('İzin Planı'!$I$6:$I$35,6-5)<=('Özet'!$C$6+7*10)+6,INDEX('İzin Planı'!$J$6:$J$35,6-5)>=('Özet'!$C$6+7*10)),AND(N(INDEX('İzin Planı'!$L$6:$L$35,6-5))>0,INDEX('İzin Planı'!$L$6:$L$35,6-5)<=('Özet'!$C$6+7*10)+6,INDEX('İzin Planı'!$M$6:$M$35,6-5)>=('Özet'!$C$6+7*10))),"İ","")) | N6: =IF(INDEX('İzin Planı'!$C$6:$C$35,6-5)="","",IF(OR(AND(N(INDEX('İzin Planı'!$F$6:$F$35,6-5))>0,INDEX('İzin Planı'!$F$6:$F$35,6-5)<=('Özet'!$C$6+7*11)+6,INDEX('İzin Planı'!$G$6:$G$35,6-5)>=('Özet'!$C$6+7*11)),AND(N(INDEX('İzin Planı'!$I$6:$I$35,6-5))>0,INDEX('İzin Planı'!$I$6:$I$35,6-5)<=('Özet'!$C$6+7*11)+6,INDEX('İzin Planı'!$J$6:$J$35,6-5)>=('Özet'!$C$6+7*11)),AND(N(INDEX('İzin Planı'!$L$6:$L$35,6-5))>0,INDEX('İzin Planı'!$L$6:$L$35,6-5)<=('Özet'!$C$6+7*11)+6,INDEX('İzin Planı'!$M$6:$M$35,6-5)>=('Özet'!$C$6+7*11))),"İ","")) | O6: =IF(INDEX('İzin Planı'!$C$6:$C$35,6-5)="","",IF(OR(AND(N(INDEX('İzin Planı'!$F$6:$F$35,6-5))>0,INDEX('İzin Planı'!$F$6:$F$35,6-5)<=('Özet'!$C$6+7*12)+6,INDEX('İzin Planı'!$G$6:$G$35,6-5)>=('Özet'!$C$6+7*12)),AND(N(INDEX('İzin Planı'!$I$6:$I$35,6-5))>0,INDEX('İzin Planı'!$I$6:$I$35,6-5)<=('Özet'!$C$6+7*12)+6,INDEX('İzin Planı'!$J$6:$J$35,6-5)>=('Özet'!$C$6+7*12)),AND(N(INDEX('İzin Planı'!$L$6:$L$35,6-5))>0,INDEX('İzin Planı'!$L$6:$L$35,6-5)<=('Özet'!$C$6+7*12)+6,INDEX('İzin Planı'!$M$6:$M$35,6-5)>=('Özet'!$C$6+7*12))),"İ","")) | P6: =IF(INDEX('İzin Planı'!$C$6:$C$35,6-5)="","",IF(OR(AND(N(INDEX('İzin Planı'!$F$6:$F$35,6-5))>0,INDEX('İzin Planı'!$F$6:$F$35,6-5)<=('Özet'!$C$6+7*13)+6,INDEX('İzin Planı'!$G$6:$G$35,6-5)>=('Özet'!$C$6+7*13)),AND(N(INDEX('İzin Planı'!$I$6:$I$35,6-5))>0,INDEX('İzin Planı'!$I$6:$I$35,6-5)<=('Özet'!$C$6+7*13)+6,INDEX('İzin Planı'!$J$6:$J$35,6-5)>=('Özet'!$C$6+7*13)),AND(N(INDEX('İzin Planı'!$L$6:$L$35,6-5))>0,INDEX('İzin Planı'!$L$6:$L$35,6-5)<=('Özet'!$C$6+7*13)+6,INDEX('İzin Planı'!$M$6:$M$35,6-5)>=('Özet'!$C$6+7*13))),"İ","")) | Q6: =IF(INDEX('İzin Planı'!$C$6:$C$35,6-5)="","",IF(OR(AND(N(INDEX('İzin Planı'!$F$6:$F$35,6-5))>0,INDEX('İzin Planı'!$F$6:$F$35,6-5)<=('Özet'!$C$6+7*14)+6,INDEX('İzin Planı'!$G$6:$G$35,6-5)>=('Özet'!$C$6+7*14)),AND(N(INDEX('İzin Planı'!$I$6:$I$35,6-5))>0,INDEX('İzin Planı'!$I$6:$I$35,6-5)<=('Özet'!$C$6+7*14)+6,INDEX('İzin Planı'!$J$6:$J$35,6-5)>=('Özet'!$C$6+7*14)),AND(N(INDEX('İzin Planı'!$L$6:$L$35,6-5))>0,INDEX('İzin Planı'!$L$6:$L$35,6-5)<=('Özet'!$C$6+7*14)+6,INDEX('İzin Planı'!$M$6:$M$35,6-5)>=('Özet'!$C$6+7*14))),"İ","")) | R6: =IF(INDEX('İzin Planı'!$C$6:$C$35,6-5)="","",IF(OR(AND(N(INDEX('İzin Planı'!$F$6:$F$35,6-5))>0,INDEX('İzin Planı'!$F$6:$F$35,6-5)<=('Özet'!$C$6+7*15)+6,INDEX('İzin Planı'!$G$6:$G$35,6-5)>=('Özet'!$C$6+7*15)),AND(N(INDEX('İzin Planı'!$I$6:$I$35,6-5))>0,INDEX('İzin Planı'!$I$6:$I$35,6-5)<=('Özet'!$C$6+7*15)+6,INDEX('İzin Planı'!$J$6:$J$35,6-5)>=('Özet'!$C$6+7*15)),AND(N(INDEX('İzin Planı'!$L$6:$L$35,6-5))>0,INDEX('İzin Planı'!$L$6:$L$35,6-5)<=('Özet'!$C$6+7*15)+6,INDEX('İzin Planı'!$M$6:$M$35,6-5)>=('Özet'!$C$6+7*15))),"İ","")) | S6: =IF(INDEX('İzin Planı'!$C$6:$C$35,6-5)="","",IF(OR(AND(N(INDEX('İzin Planı'!$F$6:$F$35,6-5))>0,INDEX('İzin Planı'!$F$6:$F$35,6-5)<=('Özet'!$C$6+7*16)+6,INDEX('İzin Planı'!$G$6:$G$35,6-5)>=('Özet'!$C$6+7*16)),AND(N(INDEX('İzin Planı'!$I$6:$I$35,6-5))>0,INDEX('İzin Planı'!$I$6:$I$35,6-5)<=('Özet'!$C$6+7*16)+6,INDEX('İzin Planı'!$J$6:$J$35,6-5)>=('Özet'!$C$6+7*16)),AND(N(INDEX('İzin Planı'!$L$6:$L$35,6-5))>0,INDEX('İzin Planı'!$L$6:$L$35,6-5)<=('Özet'!$C$6+7*16)+6,INDEX('İzin Planı'!$M$6:$M$35,6-5)>=('Özet'!$C$6+7*16))),"İ","")) | T6: =IF(INDEX('İzin Planı'!$C$6:$C$35,6-5)="","",IF(OR(AND(N(INDEX('İzin Planı'!$F$6:$F$35,6-5))>0,INDEX('İzin Planı'!$F$6:$F$35,6-5)<=('Özet'!$C$6+7*17)+6,INDEX('İzin Planı'!$G$6:$G$35,6-5)>=('Özet'!$C$6+7*17)),AND(N(INDEX('İzin Planı'!$I$6:$I$35,6-5))>0,INDEX('İzin Planı'!$I$6:$I$35,6-5)<=('Özet'!$C$6+7*17)+6,INDEX('İzin Planı'!$J$6:$J$35,6-5)>=('Özet'!$C$6+7*17)),AND(N(INDEX('İzin Planı'!$L$6:$L$35,6-5))>0,INDEX('İzin Planı'!$L$6:$L$35,6-5)<=('Özet'!$C$6+7*17)+6,INDEX('İzin Planı'!$M$6:$M$35,6-5)>=('Özet'!$C$6+7*17))),"İ","")) | U6: =IF(INDEX('İzin Planı'!$C$6:$C$35,6-5)="","",IF(OR(AND(N(INDEX('İzin Planı'!$F$6:$F$35,6-5))>0,INDEX('İzin Planı'!$F$6:$F$35,6-5)<=('Özet'!$C$6+7*18)+6,INDEX('İzin Planı'!$G$6:$G$35,6-5)>=('Özet'!$C$6+7*18)),AND(N(INDEX('İzin Planı'!$I$6:$I$35,6-5))>0,INDEX('İzin Planı'!$I$6:$I$35,6-5)<=('Özet'!$C$6+7*18)+6,INDEX('İzin Planı'!$J$6:$J$35,6-5)>=('Özet'!$C$6+7*18)),AND(N(INDEX('İzin Planı'!$L$6:$L$35,6-5))>0,INDEX('İzin Planı'!$L$6:$L$35,6-5)<=('Özet'!$C$6+7*18)+6,INDEX('İzin Planı'!$M$6:$M$35,6-5)>=('Özet'!$C$6+7*18))),"İ","")) | V6: =IF(INDEX('İzin Planı'!$C$6:$C$35,6-5)="","",IF(OR(AND(N(INDEX('İzin Planı'!$F$6:$F$35,6-5))>0,INDEX('İzin Planı'!$F$6:$F$35,6-5)<=('Özet'!$C$6+7*19)+6,INDEX('İzin Planı'!$G$6:$G$35,6-5)>=('Özet'!$C$6+7*19)),AND(N(INDEX('İzin Planı'!$I$6:$I$35,6-5))>0,INDEX('İzin Planı'!$I$6:$I$35,6-5)<=('Özet'!$C$6+7*19)+6,INDEX('İzin Planı'!$J$6:$J$35,6-5)>=('Özet'!$C$6+7*19)),AND(N(INDEX('İzin Planı'!$L$6:$L$35,6-5))>0,INDEX('İzin Planı'!$L$6:$L$35,6-5)<=('Özet'!$C$6+7*19)+6,INDEX('İzin Planı'!$M$6:$M$35,6-5)>=('Özet'!$C$6+7*19))),"İ","")) | W6: =IF(INDEX('İzin Planı'!$C$6:$C$35,6-5)="","",IF(OR(AND(N(INDEX('İzin Planı'!$F$6:$F$35,6-5))>0,INDEX('İzin Planı'!$F$6:$F$35,6-5)<=('Özet'!$C$6+7*20)+6,INDEX('İzin Planı'!$G$6:$G$35,6-5)>=('Özet'!$C$6+7*20)),AND(N(INDEX('İzin Planı'!$I$6:$I$35,6-5))>0,INDEX('İzin Planı'!$I$6:$I$35,6-5)<=('Özet'!$C$6+7*20)+6,INDEX('İzin Planı'!$J$6:$J$35,6-5)>=('Özet'!$C$6+7*20)),AND(N(INDEX('İzin Planı'!$L$6:$L$35,6-5))>0,INDEX('İzin Planı'!$L$6:$L$35,6-5)<=('Özet'!$C$6+7*20)+6,INDEX('İzin Planı'!$M$6:$M$35,6-5)>=('Özet'!$C$6+7*20))),"İ","")) | X6: =IF(INDEX('İzin Planı'!$C$6:$C$35,6-5)="","",IF(OR(AND(N(INDEX('İzin Planı'!$F$6:$F$35,6-5))>0,INDEX('İzin Planı'!$F$6:$F$35,6-5)<=('Özet'!$C$6+7*21)+6,INDEX('İzin Planı'!$G$6:$G$35,6-5)>=('Özet'!$C$6+7*21)),AND(N(INDEX('İzin Planı'!$I$6:$I$35,6-5))>0,INDEX('İzin Planı'!$I$6:$I$35,6-5)<=('Özet'!$C$6+7*21)+6,INDEX('İzin Planı'!$J$6:$J$35,6-5)>=('Özet'!$C$6+7*21)),AND(N(INDEX('İzin Planı'!$L$6:$L$35,6-5))>0,INDEX('İzin Planı'!$L$6:$L$35,6-5)<=('Özet'!$C$6+7*21)+6,INDEX('İzin Planı'!$M$6:$M$35,6-5)>=('Özet'!$C$6+7*21))),"İ","")) | Y6: =IF(INDEX('İzin Planı'!$C$6:$C$35,6-5)="","",IF(OR(AND(N(INDEX('İzin Planı'!$F$6:$F$35,6-5))>0,INDEX('İzin Planı'!$F$6:$F$35,6-5)<=('Özet'!$C$6+7*22)+6,INDEX('İzin Planı'!$G$6:$G$35,6-5)>=('Özet'!$C$6+7*22)),AND(N(INDEX('İzin Planı'!$I$6:$I$35,6-5))>0,INDEX('İzin Planı'!$I$6:$I$35,6-5)<=('Özet'!$C$6+7*22)+6,INDEX('İzin Planı'!$J$6:$J$35,6-5)>=('Özet'!$C$6+7*22)),AND(N(INDEX('İzin Planı'!$L$6:$L$35,6-5))>0,INDEX('İzin Planı'!$L$6:$L$35,6-5)<=('Özet'!$C$6+7*22)+6,INDEX('İzin Planı'!$M$6:$M$35,6-5)>=('Özet'!$C$6+7*22))),"İ","")) | Z6: =IF(INDEX('İzin Planı'!$C$6:$C$35,6-5)="","",IF(OR(AND(N(INDEX('İzin Planı'!$F$6:$F$35,6-5))>0,INDEX('İzin Planı'!$F$6:$F$35,6-5)<=('Özet'!$C$6+7*23)+6,INDEX('İzin Planı'!$G$6:$G$35,6-5)>=('Özet'!$C$6+7*23)),AND(N(INDEX('İzin Planı'!$I$6:$I$35,6-5))>0,INDEX('İzin Planı'!$I$6:$I$35,6-5)<=('Özet'!$C$6+7*23)+6,INDEX('İzin Planı'!$J$6:$J$35,6-5)>=('Özet'!$C$6+7*23)),AND(N(INDEX('İzin Planı'!$L$6:$L$35,6-5))>0,INDEX('İzin Planı'!$L$6:$L$35,6-5)<=('Özet'!$C$6+7*23)+6,INDEX('İzin Planı'!$M$6:$M$35,6-5)>=('Özet'!$C$6+7*23))),"İ","")) | AA6: =IF(INDEX('İzin Planı'!$C$6:$C$35,6-5)="","",IF(OR(AND(N(INDEX('İzin Planı'!$F$6:$F$35,6-5))>0,INDEX('İzin Planı'!$F$6:$F$35,6-5)<=('Özet'!$C$6+7*24)+6,INDEX('İzin Planı'!$G$6:$G$35,6-5)>=('Özet'!$C$6+7*24)),AND(N(INDEX('İzin Planı'!$I$6:$I$35,6-5))>0,INDEX('İzin Planı'!$I$6:$I$35,6-5)<=('Özet'!$C$6+7*24)+6,INDEX('İzin Planı'!$J$6:$J$35,6-5)>=('Özet'!$C$6+7*24)),AND(N(INDEX('İzin Planı'!$L$6:$L$35,6-5))>0,INDEX('İzin Planı'!$L$6:$L$35,6-5)<=('Özet'!$C$6+7*24)+6,INDEX('İzin Planı'!$M$6:$M$35,6-5)>=('Özet'!$C$6+7*24))),"İ","")) | AB6: =IF(INDEX('İzin Planı'!$C$6:$C$35,6-5)="","",IF(OR(AND(N(INDEX('İzin Planı'!$F$6:$F$35,6-5))>0,INDEX('İzin Planı'!$F$6:$F$35,6-5)<=('Özet'!$C$6+7*25)+6,INDEX('İzin Planı'!$G$6:$G$35,6-5)>=('Özet'!$C$6+7*25)),AND(N(INDEX('İzin Planı'!$I$6:$I$35,6-5))>0,INDEX('İzin Planı'!$I$6:$I$35,6-5)<=('Özet'!$C$6+7*25)+6,INDEX('İzin Planı'!$J$6:$J$35,6-5)>=('Özet'!$C$6+7*25)),AND(N(INDEX('İzin Planı'!$L$6:$L$35,6-5))>0,INDEX('İzin Planı'!$L$6:$L$35,6-5)<=('Özet'!$C$6+7*25)+6,INDEX('İzin Planı'!$M$6:$M$35,6-5)>=('Özet'!$C$6+7*25))),"İ","")) | AC6: =IF(INDEX('İzin Planı'!$C$6:$C$35,6-5)="","",IF(OR(AND(N(INDEX('İzin Planı'!$F$6:$F$35,6-5))>0,INDEX('İzin Planı'!$F$6:$F$35,6-5)<=('Özet'!$C$6+7*26)+6,INDEX('İzin Planı'!$G$6:$G$35,6-5)>=('Özet'!$C$6+7*26)),AND(N(INDEX('İzin Planı'!$I$6:$I$35,6-5))>0,INDEX('İzin Planı'!$I$6:$I$35,6-5)<=('Özet'!$C$6+7*26)+6,INDEX('İzin Planı'!$J$6:$J$35,6-5)>=('Özet'!$C$6+7*26)),AND(N(INDEX('İzin Planı'!$L$6:$L$35,6-5))>0,INDEX('İzin Planı'!$L$6:$L$35,6-5)<=('Özet'!$C$6+7*26)+6,INDEX('İzin Planı'!$M$6:$M$35,6-5)>=('Özet'!$C$6+7*26))),"İ","")) | AD6: =IF(INDEX('İzin Planı'!$C$6:$C$35,6-5)="","",IF(OR(AND(N(INDEX('İzin Planı'!$F$6:$F$35,6-5))>0,INDEX('İzin Planı'!$F$6:$F$35,6-5)<=('Özet'!$C$6+7*27)+6,INDEX('İzin Planı'!$G$6:$G$35,6-5)>=('Özet'!$C$6+7*27)),AND(N(INDEX('İzin Planı'!$I$6:$I$35,6-5))>0,INDEX('İzin Planı'!$I$6:$I$35,6-5)<=('Özet'!$C$6+7*27)+6,INDEX('İzin Planı'!$J$6:$J$35,6-5)>=('Özet'!$C$6+7*27)),AND(N(INDEX('İzin Planı'!$L$6:$L$35,6-5))>0,INDEX('İzin Planı'!$L$6:$L$35,6-5)<=('Özet'!$C$6+7*27)+6,INDEX('İzin Planı'!$M$6:$M$35,6-5)>=('Özet'!$C$6+7*27))),"İ","")) | AE6: =IF(INDEX('İzin Planı'!$C$6:$C$35,6-5)="","",IF(OR(AND(N(INDEX('İzin Planı'!$F$6:$F$35,6-5))>0,INDEX('İzin Planı'!$F$6:$F$35,6-5)<=('Özet'!$C$6+7*28)+6,INDEX('İzin Planı'!$G$6:$G$35,6-5)>=('Özet'!$C$6+7*28)),AND(N(INDEX('İzin Planı'!$I$6:$I$35,6-5))>0,INDEX('İzin Planı'!$I$6:$I$35,6-5)<=('Özet'!$C$6+7*28)+6,INDEX('İzin Planı'!$J$6:$J$35,6-5)>=('Özet'!$C$6+7*28)),AND(N(INDEX('İzin Planı'!$L$6:$L$35,6-5))>0,INDEX('İzin Planı'!$L$6:$L$35,6-5)<=('Özet'!$C$6+7*28)+6,INDEX('İzin Planı'!$M$6:$M$35,6-5)>=('Özet'!$C$6+7*28))),"İ","")) | AF6: =IF(INDEX('İzin Planı'!$C$6:$C$35,6-5)="","",IF(OR(AND(N(INDEX('İzin Planı'!$F$6:$F$35,6-5))>0,INDEX('İzin Planı'!$F$6:$F$35,6-5)<=('Özet'!$C$6+7*29)+6,INDEX('İzin Planı'!$G$6:$G$35,6-5)>=('Özet'!$C$6+7*29)),AND(N(INDEX('İzin Planı'!$I$6:$I$35,6-5))>0,INDEX('İzin Planı'!$I$6:$I$35,6-5)<=('Özet'!$C$6+7*29)+6,INDEX('İzin Planı'!$J$6:$J$35,6-5)>=('Özet'!$C$6+7*29)),AND(N(INDEX('İzin Planı'!$L$6:$L$35,6-5))>0,INDEX('İzin Planı'!$L$6:$L$35,6-5)<=('Özet'!$C$6+7*29)+6,INDEX('İzin Planı'!$M$6:$M$35,6-5)>=('Özet'!$C$6+7*29))),"İ","")) | AG6: =IF(INDEX('İzin Planı'!$C$6:$C$35,6-5)="","",IF(OR(AND(N(INDEX('İzin Planı'!$F$6:$F$35,6-5))>0,INDEX('İzin Planı'!$F$6:$F$35,6-5)<=('Özet'!$C$6+7*30)+6,INDEX('İzin Planı'!$G$6:$G$35,6-5)>=('Özet'!$C$6+7*30)),AND(N(INDEX('İzin Planı'!$I$6:$I$35,6-5))>0,INDEX('İzin Planı'!$I$6:$I$35,6-5)<=('Özet'!$C$6+7*30)+6,INDEX('İzin Planı'!$J$6:$J$35,6-5)>=('Özet'!$C$6+7*30)),AND(N(INDEX('İzin Planı'!$L$6:$L$35,6-5))>0,INDEX('İzin Planı'!$L$6:$L$35,6-5)<=('Özet'!$C$6+7*30)+6,INDEX('İzin Planı'!$M$6:$M$35,6-5)>=('Özet'!$C$6+7*30))),"İ","")) | AH6: =IF(INDEX('İzin Planı'!$C$6:$C$35,6-5)="","",IF(OR(AND(N(INDEX('İzin Planı'!$F$6:$F$35,6-5))>0,INDEX('İzin Planı'!$F$6:$F$35,6-5)<=('Özet'!$C$6+7*31)+6,INDEX('İzin Planı'!$G$6:$G$35,6-5)>=('Özet'!$C$6+7*31)),AND(N(INDEX('İzin Planı'!$I$6:$I$35,6-5))>0,INDEX('İzin Planı'!$I$6:$I$35,6-5)<=('Özet'!$C$6+7*31)+6,INDEX('İzin Planı'!$J$6:$J$35,6-5)>=('Özet'!$C$6+7*31)),AND(N(INDEX('İzin Planı'!$L$6:$L$35,6-5))>0,INDEX('İzin Planı'!$L$6:$L$35,6-5)<=('Özet'!$C$6+7*31)+6,INDEX('İzin Planı'!$M$6:$M$35,6-5)>=('Özet'!$C$6+7*31))),"İ","")) | AI6: =IF(INDEX('İzin Planı'!$C$6:$C$35,6-5)="","",IF(OR(AND(N(INDEX('İzin Planı'!$F$6:$F$35,6-5))>0,INDEX('İzin Planı'!$F$6:$F$35,6-5)<=('Özet'!$C$6+7*32)+6,INDEX('İzin Planı'!$G$6:$G$35,6-5)>=('Özet'!$C$6+7*32)),AND(N(INDEX('İzin Planı'!$I$6:$I$35,6-5))>0,INDEX('İzin Planı'!$I$6:$I$35,6-5)<=('Özet'!$C$6+7*32)+6,INDEX('İzin Planı'!$J$6:$J$35,6-5)>=('Özet'!$C$6+7*32)),AND(N(INDEX('İzin Planı'!$L$6:$L$35,6-5))>0,INDEX('İzin Planı'!$L$6:$L$35,6-5)<=('Özet'!$C$6+7*32)+6,INDEX('İzin Planı'!$M$6:$M$35,6-5)>=('Özet'!$C$6+7*32))),"İ","")) | AJ6: =IF(INDEX('İzin Planı'!$C$6:$C$35,6-5)="","",IF(OR(AND(N(INDEX('İzin Planı'!$F$6:$F$35,6-5))>0,INDEX('İzin Planı'!$F$6:$F$35,6-5)<=('Özet'!$C$6+7*33)+6,INDEX('İzin Planı'!$G$6:$G$35,6-5)>=('Özet'!$C$6+7*33)),AND(N(INDEX('İzin Planı'!$I$6:$I$35,6-5))>0,INDEX('İzin Planı'!$I$6:$I$35,6-5)<=('Özet'!$C$6+7*33)+6,INDEX('İzin Planı'!$J$6:$J$35,6-5)>=('Özet'!$C$6+7*33)),AND(N(INDEX('İzin Planı'!$L$6:$L$35,6-5))>0,INDEX('İzin Planı'!$L$6:$L$35,6-5)<=('Özet'!$C$6+7*33)+6,INDEX('İzin Planı'!$M$6:$M$35,6-5)>=('Özet'!$C$6+7*33))),"İ","")) | AK6: =IF(INDEX('İzin Planı'!$C$6:$C$35,6-5)="","",IF(OR(AND(N(INDEX('İzin Planı'!$F$6:$F$35,6-5))>0,INDEX('İzin Planı'!$F$6:$F$35,6-5)<=('Özet'!$C$6+7*34)+6,INDEX('İzin Planı'!$G$6:$G$35,6-5)>=('Özet'!$C$6+7*34)),AND(N(INDEX('İzin Planı'!$I$6:$I$35,6-5))>0,INDEX('İzin Planı'!$I$6:$I$35,6-5)<=('Özet'!$C$6+7*34)+6,INDEX('İzin Planı'!$J$6:$J$35,6-5)>=('Özet'!$C$6+7*34)),AND(N(INDEX('İzin Planı'!$L$6:$L$35,6-5))>0,INDEX('İzin Planı'!$L$6:$L$35,6-5)<=('Özet'!$C$6+7*34)+6,INDEX('İzin Planı'!$M$6:$M$35,6-5)>=('Özet'!$C$6+7*34))),"İ","")) | AL6: =IF(INDEX('İzin Planı'!$C$6:$C$35,6-5)="","",IF(OR(AND(N(INDEX('İzin Planı'!$F$6:$F$35,6-5))>0,INDEX('İzin Planı'!$F$6:$F$35,6-5)<=('Özet'!$C$6+7*35)+6,INDEX('İzin Planı'!$G$6:$G$35,6-5)>=('Özet'!$C$6+7*35)),AND(N(INDEX('İzin Planı'!$I$6:$I$35,6-5))>0,INDEX('İzin Planı'!$I$6:$I$35,6-5)<=('Özet'!$C$6+7*35)+6,INDEX('İzin Planı'!$J$6:$J$35,6-5)>=('Özet'!$C$6+7*35)),AND(N(INDEX('İzin Planı'!$L$6:$L$35,6-5))>0,INDEX('İzin Planı'!$L$6:$L$35,6-5)<=('Özet'!$C$6+7*35)+6,INDEX('İzin Planı'!$M$6:$M$35,6-5)>=('Özet'!$C$6+7*35))),"İ","")) | AM6: =IF(INDEX('İzin Planı'!$C$6:$C$35,6-5)="","",IF(OR(AND(N(INDEX('İzin Planı'!$F$6:$F$35,6-5))>0,INDEX('İzin Planı'!$F$6:$F$35,6-5)<=('Özet'!$C$6+7*36)+6,INDEX('İzin Planı'!$G$6:$G$35,6-5)>=('Özet'!$C$6+7*36)),AND(N(INDEX('İzin Planı'!$I$6:$I$35,6-5))>0,INDEX('İzin Planı'!$I$6:$I$35,6-5)<=('Özet'!$C$6+7*36)+6,INDEX('İzin Planı'!$J$6:$J$35,6-5)>=('Özet'!$C$6+7*36)),AND(N(INDEX('İzin Planı'!$L$6:$L$35,6-5))>0,INDEX('İzin Planı'!$L$6:$L$35,6-5)<=('Özet'!$C$6+7*36)+6,INDEX('İzin Planı'!$M$6:$M$35,6-5)>=('Özet'!$C$6+7*36))),"İ","")) | AN6: =IF(INDEX('İzin Planı'!$C$6:$C$35,6-5)="","",IF(OR(AND(N(INDEX('İzin Planı'!$F$6:$F$35,6-5))>0,INDEX('İzin Planı'!$F$6:$F$35,6-5)<=('Özet'!$C$6+7*37)+6,INDEX('İzin Planı'!$G$6:$G$35,6-5)>=('Özet'!$C$6+7*37)),AND(N(INDEX('İzin Planı'!$I$6:$I$35,6-5))>0,INDEX('İzin Planı'!$I$6:$I$35,6-5)<=('Özet'!$C$6+7*37)+6,INDEX('İzin Planı'!$J$6:$J$35,6-5)>=('Özet'!$C$6+7*37)),AND(N(INDEX('İzin Planı'!$L$6:$L$35,6-5))>0,INDEX('İzin Planı'!$L$6:$L$35,6-5)<=('Özet'!$C$6+7*37)+6,INDEX('İzin Planı'!$M$6:$M$35,6-5)>=('Özet'!$C$6+7*37))),"İ","")) | AO6: =IF(INDEX('İzin Planı'!$C$6:$C$35,6-5)="","",IF(OR(AND(N(INDEX('İzin Planı'!$F$6:$F$35,6-5))>0,INDEX('İzin Planı'!$F$6:$F$35,6-5)<=('Özet'!$C$6+7*38)+6,INDEX('İzin Planı'!$G$6:$G$35,6-5)>=('Özet'!$C$6+7*38)),AND(N(INDEX('İzin Planı'!$I$6:$I$35,6-5))>0,INDEX('İzin Planı'!$I$6:$I$35,6-5)<=('Özet'!$C$6+7*38)+6,INDEX('İzin Planı'!$J$6:$J$35,6-5)>=('Özet'!$C$6+7*38)),AND(N(INDEX('İzin Planı'!$L$6:$L$35,6-5))>0,INDEX('İzin Planı'!$L$6:$L$35,6-5)<=('Özet'!$C$6+7*38)+6,INDEX('İzin Planı'!$M$6:$M$35,6-5)>=('Özet'!$C$6+7*38))),"İ","")) | AP6: =IF(INDEX('İzin Planı'!$C$6:$C$35,6-5)="","",IF(OR(AND(N(INDEX('İzin Planı'!$F$6:$F$35,6-5))>0,INDEX('İzin Planı'!$F$6:$F$35,6-5)<=('Özet'!$C$6+7*39)+6,INDEX('İzin Planı'!$G$6:$G$35,6-5)>=('Özet'!$C$6+7*39)),AND(N(INDEX('İzin Planı'!$I$6:$I$35,6-5))>0,INDEX('İzin Planı'!$I$6:$I$35,6-5)<=('Özet'!$C$6+7*39)+6,INDEX('İzin Planı'!$J$6:$J$35,6-5)>=('Özet'!$C$6+7*39)),AND(N(INDEX('İzin Planı'!$L$6:$L$35,6-5))>0,INDEX('İzin Planı'!$L$6:$L$35,6-5)<=('Özet'!$C$6+7*39)+6,INDEX('İzin Planı'!$M$6:$M$35,6-5)>=('Özet'!$C$6+7*39))),"İ","")) | AQ6: =IF(INDEX('İzin Planı'!$C$6:$C$35,6-5)="","",IF(OR(AND(N(INDEX('İzin Planı'!$F$6:$F$35,6-5))>0,INDEX('İzin Planı'!$F$6:$F$35,6-5)<=('Özet'!$C$6+7*40)+6,INDEX('İzin Planı'!$G$6:$G$35,6-5)>=('Özet'!$C$6+7*40)),AND(N(INDEX('İzin Planı'!$I$6:$I$35,6-5))>0,INDEX('İzin Planı'!$I$6:$I$35,6-5)<=('Özet'!$C$6+7*40)+6,INDEX('İzin Planı'!$J$6:$J$35,6-5)>=('Özet'!$C$6+7*40)),AND(N(INDEX('İzin Planı'!$L$6:$L$35,6-5))>0,INDEX('İzin Planı'!$L$6:$L$35,6-5)<=('Özet'!$C$6+7*40)+6,INDEX('İzin Planı'!$M$6:$M$35,6-5)>=('Özet'!$C$6+7*40))),"İ","")) | AR6: =IF(INDEX('İzin Planı'!$C$6:$C$35,6-5)="","",IF(OR(AND(N(INDEX('İzin Planı'!$F$6:$F$35,6-5))>0,INDEX('İzin Planı'!$F$6:$F$35,6-5)<=('Özet'!$C$6+7*41)+6,INDEX('İzin Planı'!$G$6:$G$35,6-5)>=('Özet'!$C$6+7*41)),AND(N(INDEX('İzin Planı'!$I$6:$I$35,6-5))>0,INDEX('İzin Planı'!$I$6:$I$35,6-5)<=('Özet'!$C$6+7*41)+6,INDEX('İzin Planı'!$J$6:$J$35,6-5)>=('Özet'!$C$6+7*41)),AND(N(INDEX('İzin Planı'!$L$6:$L$35,6-5))>0,INDEX('İzin Planı'!$L$6:$L$35,6-5)<=('Özet'!$C$6+7*41)+6,INDEX('İzin Planı'!$M$6:$M$35,6-5)>=('Özet'!$C$6+7*41))),"İ","")) | AS6: =IF(INDEX('İzin Planı'!$C$6:$C$35,6-5)="","",IF(OR(AND(N(INDEX('İzin Planı'!$F$6:$F$35,6-5))>0,INDEX('İzin Planı'!$F$6:$F$35,6-5)<=('Özet'!$C$6+7*42)+6,INDEX('İzin Planı'!$G$6:$G$35,6-5)>=('Özet'!$C$6+7*42)),AND(N(INDEX('İzin Planı'!$I$6:$I$35,6-5))>0,INDEX('İzin Planı'!$I$6:$I$35,6-5)<=('Özet'!$C$6+7*42)+6,INDEX('İzin Planı'!$J$6:$J$35,6-5)>=('Özet'!$C$6+7*42)),AND(N(INDEX('İzin Planı'!$L$6:$L$35,6-5))>0,INDEX('İzin Planı'!$L$6:$L$35,6-5)<=('Özet'!$C$6+7*42)+6,INDEX('İzin Planı'!$M$6:$M$35,6-5)>=('Özet'!$C$6+7*42))),"İ","")) | AT6: =IF(INDEX('İzin Planı'!$C$6:$C$35,6-5)="","",IF(OR(AND(N(INDEX('İzin Planı'!$F$6:$F$35,6-5))>0,INDEX('İzin Planı'!$F$6:$F$35,6-5)<=('Özet'!$C$6+7*43)+6,INDEX('İzin Planı'!$G$6:$G$35,6-5)>=('Özet'!$C$6+7*43)),AND(N(INDEX('İzin Planı'!$I$6:$I$35,6-5))>0,INDEX('İzin Planı'!$I$6:$I$35,6-5)<=('Özet'!$C$6+7*43)+6,INDEX('İzin Planı'!$J$6:$J$35,6-5)>=('Özet'!$C$6+7*43)),AND(N(INDEX('İzin Planı'!$L$6:$L$35,6-5))>0,INDEX('İzin Planı'!$L$6:$L$35,6-5)<=('Özet'!$C$6+7*43)+6,INDEX('İzin Planı'!$M$6:$M$35,6-5)>=('Özet'!$C$6+7*43))),"İ","")) | AU6: =IF(INDEX('İzin Planı'!$C$6:$C$35,6-5)="","",IF(OR(AND(N(INDEX('İzin Planı'!$F$6:$F$35,6-5))>0,INDEX('İzin Planı'!$F$6:$F$35,6-5)<=('Özet'!$C$6+7*44)+6,INDEX('İzin Planı'!$G$6:$G$35,6-5)>=('Özet'!$C$6+7*44)),AND(N(INDEX('İzin Planı'!$I$6:$I$35,6-5))>0,INDEX('İzin Planı'!$I$6:$I$35,6-5)<=('Özet'!$C$6+7*44)+6,INDEX('İzin Planı'!$J$6:$J$35,6-5)>=('Özet'!$C$6+7*44)),AND(N(INDEX('İzin Planı'!$L$6:$L$35,6-5))>0,INDEX('İzin Planı'!$L$6:$L$35,6-5)<=('Özet'!$C$6+7*44)+6,INDEX('İzin Planı'!$M$6:$M$35,6-5)>=('Özet'!$C$6+7*44))),"İ","")) | AV6: =IF(INDEX('İzin Planı'!$C$6:$C$35,6-5)="","",IF(OR(AND(N(INDEX('İzin Planı'!$F$6:$F$35,6-5))>0,INDEX('İzin Planı'!$F$6:$F$35,6-5)<=('Özet'!$C$6+7*45)+6,INDEX('İzin Planı'!$G$6:$G$35,6-5)>=('Özet'!$C$6+7*45)),AND(N(INDEX('İzin Planı'!$I$6:$I$35,6-5))>0,INDEX('İzin Planı'!$I$6:$I$35,6-5)<=('Özet'!$C$6+7*45)+6,INDEX('İzin Planı'!$J$6:$J$35,6-5)>=('Özet'!$C$6+7*45)),AND(N(INDEX('İzin Planı'!$L$6:$L$35,6-5))>0,INDEX('İzin Planı'!$L$6:$L$35,6-5)<=('Özet'!$C$6+7*45)+6,INDEX('İzin Planı'!$M$6:$M$35,6-5)>=('Özet'!$C$6+7*45))),"İ","")) | AW6: =IF(INDEX('İzin Planı'!$C$6:$C$35,6-5)="","",IF(OR(AND(N(INDEX('İzin Planı'!$F$6:$F$35,6-5))>0,INDEX('İzin Planı'!$F$6:$F$35,6-5)<=('Özet'!$C$6+7*46)+6,INDEX('İzin Planı'!$G$6:$G$35,6-5)>=('Özet'!$C$6+7*46)),AND(N(INDEX('İzin Planı'!$I$6:$I$35,6-5))>0,INDEX('İzin Planı'!$I$6:$I$35,6-5)<=('Özet'!$C$6+7*46)+6,INDEX('İzin Planı'!$J$6:$J$35,6-5)>=('Özet'!$C$6+7*46)),AND(N(INDEX('İzin Planı'!$L$6:$L$35,6-5))>0,INDEX('İzin Planı'!$L$6:$L$35,6-5)<=('Özet'!$C$6+7*46)+6,INDEX('İzin Planı'!$M$6:$M$35,6-5)>=('Özet'!$C$6+7*46))),"İ","")) | AX6: =IF(INDEX('İzin Planı'!$C$6:$C$35,6-5)="","",IF(OR(AND(N(INDEX('İzin Planı'!$F$6:$F$35,6-5))>0,INDEX('İzin Planı'!$F$6:$F$35,6-5)<=('Özet'!$C$6+7*47)+6,INDEX('İzin Planı'!$G$6:$G$35,6-5)>=('Özet'!$C$6+7*47)),AND(N(INDEX('İzin Planı'!$I$6:$I$35,6-5))>0,INDEX('İzin Planı'!$I$6:$I$35,6-5)<=('Özet'!$C$6+7*47)+6,INDEX('İzin Planı'!$J$6:$J$35,6-5)>=('Özet'!$C$6+7*47)),AND(N(INDEX('İzin Planı'!$L$6:$L$35,6-5))>0,INDEX('İzin Planı'!$L$6:$L$35,6-5)<=('Özet'!$C$6+7*47)+6,INDEX('İzin Planı'!$M$6:$M$35,6-5)>=('Özet'!$C$6+7*47))),"İ","")) | AY6: =IF(INDEX('İzin Planı'!$C$6:$C$35,6-5)="","",IF(OR(AND(N(INDEX('İzin Planı'!$F$6:$F$35,6-5))>0,INDEX('İzin Planı'!$F$6:$F$35,6-5)<=('Özet'!$C$6+7*48)+6,INDEX('İzin Planı'!$G$6:$G$35,6-5)>=('Özet'!$C$6+7*48)),AND(N(INDEX('İzin Planı'!$I$6:$I$35,6-5))>0,INDEX('İzin Planı'!$I$6:$I$35,6-5)<=('Özet'!$C$6+7*48)+6,INDEX('İzin Planı'!$J$6:$J$35,6-5)>=('Özet'!$C$6+7*48)),AND(N(INDEX('İzin Planı'!$L$6:$L$35,6-5))>0,INDEX('İzin Planı'!$L$6:$L$35,6-5)<=('Özet'!$C$6+7*48)+6,INDEX('İzin Planı'!$M$6:$M$35,6-5)>=('Özet'!$C$6+7*48))),"İ","")) | AZ6: =IF(INDEX('İzin Planı'!$C$6:$C$35,6-5)="","",IF(OR(AND(N(INDEX('İzin Planı'!$F$6:$F$35,6-5))>0,INDEX('İzin Planı'!$F$6:$F$35,6-5)<=('Özet'!$C$6+7*49)+6,INDEX('İzin Planı'!$G$6:$G$35,6-5)>=('Özet'!$C$6+7*49)),AND(N(INDEX('İzin Planı'!$I$6:$I$35,6-5))>0,INDEX('İzin Planı'!$I$6:$I$35,6-5)<=('Özet'!$C$6+7*49)+6,INDEX('İzin Planı'!$J$6:$J$35,6-5)>=('Özet'!$C$6+7*49)),AND(N(INDEX('İzin Planı'!$L$6:$L$35,6-5))>0,INDEX('İzin Planı'!$L$6:$L$35,6-5)<=('Özet'!$C$6+7*49)+6,INDEX('İzin Planı'!$M$6:$M$35,6-5)>=('Özet'!$C$6+7*49))),"İ","")) | BA6: =IF(INDEX('İzin Planı'!$C$6:$C$35,6-5)="","",IF(OR(AND(N(INDEX('İzin Planı'!$F$6:$F$35,6-5))>0,INDEX('İzin Planı'!$F$6:$F$35,6-5)<=('Özet'!$C$6+7*50)+6,INDEX('İzin Planı'!$G$6:$G$35,6-5)>=('Özet'!$C$6+7*50)),AND(N(INDEX('İzin Planı'!$I$6:$I$35,6-5))>0,INDEX('İzin Planı'!$I$6:$I$35,6-5)<=('Özet'!$C$6+7*50)+6,INDEX('İzin Planı'!$J$6:$J$35,6-5)>=('Özet'!$C$6+7*50)),AND(N(INDEX('İzin Planı'!$L$6:$L$35,6-5))>0,INDEX('İzin Planı'!$L$6:$L$35,6-5)<=('Özet'!$C$6+7*50)+6,INDEX('İzin Planı'!$M$6:$M$35,6-5)>=('Özet'!$C$6+7*50))),"İ","")) | BB6: =IF(INDEX('İzin Planı'!$C$6:$C$35,6-5)="","",IF(OR(AND(N(INDEX('İzin Planı'!$F$6:$F$35,6-5))>0,INDEX('İzin Planı'!$F$6:$F$35,6-5)<=('Özet'!$C$6+7*51)+6,INDEX('İzin Planı'!$G$6:$G$35,6-5)>=('Özet'!$C$6+7*51)),AND(N(INDEX('İzin Planı'!$I$6:$I$35,6-5))>0,INDEX('İzin Planı'!$I$6:$I$35,6-5)<=('Özet'!$C$6+7*51)+6,INDEX('İzin Planı'!$J$6:$J$35,6-5)>=('Özet'!$C$6+7*51)),AND(N(INDEX('İzin Planı'!$L$6:$L$35,6-5))>0,INDEX('İzin Planı'!$L$6:$L$35,6-5)<=('Özet'!$C$6+7*51)+6,INDEX('İzin Planı'!$M$6:$M$35,6-5)>=('Özet'!$C$6+7*51))),"İ","")) | BC6: =IF(INDEX('İzin Planı'!$C$6:$C$35,6-5)="","",IF(OR(AND(N(INDEX('İzin Planı'!$F$6:$F$35,6-5))>0,INDEX('İzin Planı'!$F$6:$F$35,6-5)<=('Özet'!$C$6+7*52)+6,INDEX('İzin Planı'!$G$6:$G$35,6-5)>=('Özet'!$C$6+7*52)),AND(N(INDEX('İzin Planı'!$I$6:$I$35,6-5))>0,INDEX('İzin Planı'!$I$6:$I$35,6-5)<=('Özet'!$C$6+7*52)+6,INDEX('İzin Planı'!$J$6:$J$35,6-5)>=('Özet'!$C$6+7*52)),AND(N(INDEX('İzin Planı'!$L$6:$L$35,6-5))>0,INDEX('İzin Planı'!$L$6:$L$35,6-5)<=('Özet'!$C$6+7*52)+6,INDEX('İzin Planı'!$M$6:$M$35,6-5)>=('Özet'!$C$6+7*52))),"İ",""))
