Workbook

Sheet Özet
B1: Oryantasyon Özeti
B2: Çalışan: [Ad Soyad] · Pozisyon: [Pozisyon] · İşe başlama: [Tarih]
B3: ikpartner.com · Ücretsiz İK şablonu · 0538 949 22 87
B5: Çalışan Bilgileri
B6: Ad Soyad | C6: [Ad Soyad]
B7: Pozisyon / Unvan | C7: [Pozisyon]
B8: Departman | C8: [Departman]
B9: Yönetici | C9: [Ad Soyad]
B10: Mentor / Yol arkadaşı | C10: [Ad Soyad]
B11: İşe başlama tarihi | C11: 46328 | D11: Planlanan tarihler bu tarihe göre hesaplanır.
B12: Deneme süresi (ay) | C12: 2 | D12: Sözleşmede yazılıysa geçerlidir; en çok 2 ay, TİS ile 4 aya kadar.
B13: Deneme süresi bitiş tarihi | C13: =IF(OR(C11="",C12=""),"",EDATE(C11,C12)) | D13: Deneme süresi değerlendirmesini bu tarihten önce tamamlayın.
B14: İlerleme
B15: Toplam görev (gerek yok hariç) | C15: =COUNTA('Kontrol Listesi'!$C$6:$C$55)-COUNTIF('Kontrol Listesi'!$G$6:$G$55,"Gerek Yok")
B16: Tamamlanan | C16: =COUNTIF('Kontrol Listesi'!$G$6:$G$55,"Tamamlandı")
B17: Devam eden | C17: =COUNTIF('Kontrol Listesi'!$G$6:$G$55,"Devam Ediyor")
B18: Bekleyen | C18: =COUNTIF('Kontrol Listesi'!$G$6:$G$55,"Bekliyor")
B19: Geciken | C19: =COUNTIF('Kontrol Listesi'!$I$6:$I$55,"Gecikti") | D19: Planlanan tarihi geçmiş ve tamamlanmamış görevler.
B20: Genel tamamlanma oranı | C20: =IF(C15=0,0,C16/C15)
B21: Aşamalara Göre Tamamlanma
B22: İşe Başlamadan Önce | C22: =IFERROR(COUNTIFS('Kontrol Listesi'!$B$6:$B$55,"İşe Başlamadan Önce",'Kontrol Listesi'!$G$6:$G$55,"Tamamlandı")/(COUNTIF('Kontrol Listesi'!$B$6:$B$55,"İşe Başlamadan Önce")-COUNTIFS('Kontrol Listesi'!$B$6:$B$55,"İşe Başlamadan Önce",'Kontrol Listesi'!$G$6:$G$55,"Gerek Yok")),0)
B23: İlk Gün | C23: =IFERROR(COUNTIFS('Kontrol Listesi'!$B$6:$B$55,"İlk Gün",'Kontrol Listesi'!$G$6:$G$55,"Tamamlandı")/(COUNTIF('Kontrol Listesi'!$B$6:$B$55,"İlk Gün")-COUNTIFS('Kontrol Listesi'!$B$6:$B$55,"İlk Gün",'Kontrol Listesi'!$G$6:$G$55,"Gerek Yok")),0)
B24: İlk Hafta | C24: =IFERROR(COUNTIFS('Kontrol Listesi'!$B$6:$B$55,"İlk Hafta",'Kontrol Listesi'!$G$6:$G$55,"Tamamlandı")/(COUNTIF('Kontrol Listesi'!$B$6:$B$55,"İlk Hafta")-COUNTIFS('Kontrol Listesi'!$B$6:$B$55,"İlk Hafta",'Kontrol Listesi'!$G$6:$G$55,"Gerek Yok")),0)
B25: İlk 30 Gün | C25: =IFERROR(COUNTIFS('Kontrol Listesi'!$B$6:$B$55,"İlk 30 Gün",'Kontrol Listesi'!$G$6:$G$55,"Tamamlandı")/(COUNTIF('Kontrol Listesi'!$B$6:$B$55,"İlk 30 Gün")-COUNTIFS('Kontrol Listesi'!$B$6:$B$55,"İlk 30 Gün",'Kontrol Listesi'!$G$6:$G$55,"Gerek Yok")),0)
B26: 31–60. Gün | C26: =IFERROR(COUNTIFS('Kontrol Listesi'!$B$6:$B$55,"31-60. Gün",'Kontrol Listesi'!$G$6:$G$55,"Tamamlandı")/(COUNTIF('Kontrol Listesi'!$B$6:$B$55,"31-60. Gün")-COUNTIFS('Kontrol Listesi'!$B$6:$B$55,"31-60. Gün",'Kontrol Listesi'!$G$6:$G$55,"Gerek Yok")),0)
B27: 61–90. Gün | C27: =IFERROR(COUNTIFS('Kontrol Listesi'!$B$6:$B$55,"61-90. Gün",'Kontrol Listesi'!$G$6:$G$55,"Tamamlandı")/(COUNTIF('Kontrol Listesi'!$B$6:$B$55,"61-90. Gün")-COUNTIFS('Kontrol Listesi'!$B$6:$B$55,"61-90. Gün",'Kontrol Listesi'!$G$6:$G$55,"Gerek Yok")),0)
B28: Onay
B29: Hazırlayan (İK) | C29: [Ad Soyad]
B30: Yönetici onayı | C30: [Ad Soyad / Tarih]

Sheet Kontrol Listesi
B1: Oryantasyon Kontrol Listesi
B2: Çalışan: [Ad Soyad] · Pozisyon: [Pozisyon] · İşe başlama: [Tarih]
B3: ikpartner.com · Ücretsiz İK şablonu · 0538 949 22 87
A5: Sıra | B5: Aşama | C5: Görev | D5: Sorumlu | E5: Gün (±) | F5: Planlanan Tarih | G5: Durum | H5: Tamamlanma Tarihi | I5: Gecikme | J5: Not
A6: 1 | B6: İşe Başlamadan Önce | C6: İş sözleşmesinin hazırlanması ve imzaya sunulması | D6: İK | E6: -10 | F6: =IF(OR(C6="",E6="",'Özet'!$C$11=""),"",'Özet'!$C$11+E6) | G6: Bekliyor | I6: =IF(OR(C6="",F6="",G6="Tamamlandı",G6="Gerek Yok"),"",IF(F6<TODAY(),"Gecikti","Süresi var"))
A7: 2 | B7: İşe Başlamadan Önce | C7: İşe giriş belgelerinin toplanması (kimlik, diploma, sağlık raporu vb.) | D7: İK | E7: -10 | F7: =IF(OR(C7="",E7="",'Özet'!$C$11=""),"",'Özet'!$C$11+E7) | G7: Bekliyor | I7: =IF(OR(C7="",F7="",G7="Tamamlandı",G7="Gerek Yok"),"",IF(F7<TODAY(),"Gecikti","Süresi var"))
A8: 3 | B8: İşe Başlamadan Önce | C8: Çalışan aydınlatma metninin (KVKK) tebliğ edilmesi | D8: İK | E8: -7 | F8: =IF(OR(C8="",E8="",'Özet'!$C$11=""),"",'Özet'!$C$11+E8) | G8: Bekliyor | I8: =IF(OR(C8="",F8="",G8="Tamamlandı",G8="Gerek Yok"),"",IF(F8<TODAY(),"Gecikti","Süresi var"))
A9: 4 | B9: İşe Başlamadan Önce | C9: Mentor / yol arkadaşının atanması ve bilgilendirilmesi | D9: Yönetici | E9: -7 | F9: =IF(OR(C9="",E9="",'Özet'!$C$11=""),"",'Özet'!$C$11+E9) | G9: Bekliyor | I9: =IF(OR(C9="",F9="",G9="Tamamlandı",G9="Gerek Yok"),"",IF(F9<TODAY(),"Gecikti","Süresi var"))
A10: 5 | B10: İşe Başlamadan Önce | C10: İşe giriş sağlık muayenesinin planlanması (gerekiyorsa) | D10: İSG | E10: -5 | F10: =IF(OR(C10="",E10="",'Özet'!$C$11=""),"",'Özet'!$C$11+E10) | G10: Bekliyor | I10: =IF(OR(C10="",F10="",G10="Tamamlandı",G10="Gerek Yok"),"",IF(F10<TODAY(),"Gecikti","Süresi var"))
A11: 6 | B11: İşe Başlamadan Önce | C11: Bilgisayar, telefon ve çalışma alanının hazırlanması | D11: Bilgi İşlem | E11: -5 | F11: =IF(OR(C11="",E11="",'Özet'!$C$11=""),"",'Özet'!$C$11+E11) | G11: Bekliyor | I11: =IF(OR(C11="",F11="",G11="Tamamlandı",G11="Gerek Yok"),"",IF(F11<TODAY(),"Gecikti","Süresi var"))
A12: 7 | B12: İşe Başlamadan Önce | C12: E-posta, sistem ve yazılım erişimlerinin açılması | D12: Bilgi İşlem | E12: -3 | F12: =IF(OR(C12="",E12="",'Özet'!$C$11=""),"",'Özet'!$C$11+E12) | G12: Bekliyor | I12: =IF(OR(C12="",F12="",G12="Tamamlandı",G12="Gerek Yok"),"",IF(F12<TODAY(),"Gecikti","Süresi var"))
A13: 8 | B13: İşe Başlamadan Önce | C13: İlk hafta programının çalışana gönderilmesi | D13: İK | E13: -3 | F13: =IF(OR(C13="",E13="",'Özet'!$C$11=""),"",'Özet'!$C$11+E13) | G13: Bekliyor | I13: =IF(OR(C13="",F13="",G13="Tamamlandı",G13="Gerek Yok"),"",IF(F13<TODAY(),"Gecikti","Süresi var"))
A14: 9 | B14: İşe Başlamadan Önce | C14: SGK işe giriş bildirgesinin yasal süresi içinde verilmesi | D14: İK | E14: -2 | F14: =IF(OR(C14="",E14="",'Özet'!$C$11=""),"",'Özet'!$C$11+E14) | G14: Bekliyor | I14: =IF(OR(C14="",F14="",G14="Tamamlandı",G14="Gerek Yok"),"",IF(F14<TODAY(),"Gecikti","Süresi var"))
A15: 10 | B15: İşe Başlamadan Önce | C15: Ekibe yeni çalışanın duyurulması | D15: Yönetici | E15: -2 | F15: =IF(OR(C15="",E15="",'Özet'!$C$11=""),"",'Özet'!$C$11+E15) | G15: Bekliyor | I15: =IF(OR(C15="",F15="",G15="Tamamlandı",G15="Gerek Yok"),"",IF(F15<TODAY(),"Gecikti","Süresi var"))
A16: 11 | B16: İlk Gün | C16: Karşılama, ofis / tesis turu ve tanışma | D16: İK | E16: 0 | F16: =IF(OR(C16="",E16="",'Özet'!$C$11=""),"",'Özet'!$C$11+E16) | G16: Bekliyor | I16: =IF(OR(C16="",F16="",G16="Tamamlandı",G16="Gerek Yok"),"",IF(F16<TODAY(),"Gecikti","Süresi var"))
A17: 12 | B17: İlk Gün | C17: Ekipman tesliminin yapılması ve zimmet tutanağının imzalanması | D17: İdari İşler | E17: 0 | F17: =IF(OR(C17="",E17="",'Özet'!$C$11=""),"",'Özet'!$C$11+E17) | G17: Bekliyor | I17: =IF(OR(C17="",F17="",G17="Tamamlandı",G17="Gerek Yok"),"",IF(F17<TODAY(),"Gecikti","Süresi var"))
... A40: 35 | B40: 61-90. Gün | C40: Özlük dosyasının tamlık kontrolü | D40: İK | E40: 90 | F40: =IF(OR(C40="",E40="",'Özet'!$C$11=""),"",'Özet'!$C$11+E40) | G40: Bekliyor | I40: =IF(OR(C40="",F40="",G40="Tamamlandı",G40="Gerek Yok"),"",IF(F40<TODAY(),"Gecikti","Süresi var"))
A41: 36 | F41: =IF(OR(C41="",E41="",'Özet'!$C$11=""),"",'Özet'!$C$11+E41) | I41: =IF(OR(C41="",F41="",G41="Tamamlandı",G41="Gerek Yok"),"",IF(F41<TODAY(),"Gecikti","Süresi var"))
A42: 37 | F42: =IF(OR(C42="",E42="",'Özet'!$C$11=""),"",'Özet'!$C$11+E42) | I42: =IF(OR(C42="",F42="",G42="Tamamlandı",G42="Gerek Yok"),"",IF(F42<TODAY(),"Gecikti","Süresi var"))
A43: 38 | F43: =IF(OR(C43="",E43="",'Özet'!$C$11=""),"",'Özet'!$C$11+E43) | I43: =IF(OR(C43="",F43="",G43="Tamamlandı",G43="Gerek Yok"),"",IF(F43<TODAY(),"Gecikti","Süresi var"))
A44: 39 | F44: =IF(OR(C44="",E44="",'Özet'!$C$11=""),"",'Özet'!$C$11+E44) | I44: =IF(OR(C44="",F44="",G44="Tamamlandı",G44="Gerek Yok"),"",IF(F44<TODAY(),"Gecikti","Süresi var"))
A45: 40 | F45: =IF(OR(C45="",E45="",'Özet'!$C$11=""),"",'Özet'!$C$11+E45) | I45: =IF(OR(C45="",F45="",G45="Tamamlandı",G45="Gerek Yok"),"",IF(F45<TODAY(),"Gecikti","Süresi var"))
A46: 41 | F46: =IF(OR(C46="",E46="",'Özet'!$C$11=""),"",'Özet'!$C$11+E46) | I46: =IF(OR(C46="",F46="",G46="Tamamlandı",G46="Gerek Yok"),"",IF(F46<TODAY(),"Gecikti","Süresi var"))
A47: 42 | F47: =IF(OR(C47="",E47="",'Özet'!$C$11=""),"",'Özet'!$C$11+E47) | I47: =IF(OR(C47="",F47="",G47="Tamamlandı",G47="Gerek Yok"),"",IF(F47<TODAY(),"Gecikti","Süresi var"))
A48: 43 | F48: =IF(OR(C48="",E48="",'Özet'!$C$11=""),"",'Özet'!$C$11+E48) | I48: =IF(OR(C48="",F48="",G48="Tamamlandı",G48="Gerek Yok"),"",IF(F48<TODAY(),"Gecikti","Süresi var"))
A49: 44 | F49: =IF(OR(C49="",E49="",'Özet'!$C$11=""),"",'Özet'!$C$11+E49) | I49: =IF(OR(C49="",F49="",G49="Tamamlandı",G49="Gerek Yok"),"",IF(F49<TODAY(),"Gecikti","Süresi var"))
A50: 45 | F50: =IF(OR(C50="",E50="",'Özet'!$C$11=""),"",'Özet'!$C$11+E50) | I50: =IF(OR(C50="",F50="",G50="Tamamlandı",G50="Gerek Yok"),"",IF(F50<TODAY(),"Gecikti","Süresi var"))
A51: 46 | F51: =IF(OR(C51="",E51="",'Özet'!$C$11=""),"",'Özet'!$C$11+E51) | I51: =IF(OR(C51="",F51="",G51="Tamamlandı",G51="Gerek Yok"),"",IF(F51<TODAY(),"Gecikti","Süresi var"))
A52: 47 | F52: =IF(OR(C52="",E52="",'Özet'!$C$11=""),"",'Özet'!$C$11+E52) | I52: =IF(OR(C52="",F52="",G52="Tamamlandı",G52="Gerek Yok"),"",IF(F52<TODAY(),"Gecikti","Süresi var"))
... A55: 50 | F55: =IF(OR(C55="",E55="",'Özet'!$C$11=""),"",'Özet'!$C$11+E55) | I55: =IF(OR(C55="",F55="",G55="Tamamlandı",G55="Gerek Yok"),"",IF(F55<TODAY(),"Gecikti","Süresi var"))

Sheet Nasıl Kullanılır
B1: Nasıl Kullanılır?
B2: Oryantasyon Kontrol Listesi
B3: ikpartner.com · Ücretsiz İK şablonu · 0538 949 22 87
B5: Yeni çalışanın işe başlamadan önceki hazırlıklardan 90. güne kadar tüm oryantasyon görevlerini sorumlu, planlanan tarih ve durum bilgisiyle takip eden kontrol listesi. Planlanan tarihler işe başlama tarihine göre otomatik hesaplanır; Özet sayfası aşama bazında tamamlanma oranını gösterir.
B7: Kullanım adımları
B8: 1. Özet sayfasındaki mavi hücrelere çalışanın adını, pozisyonunu, yöneticisini, mentorunu ve işe başlama tarihini yazın. Deneme süresi sözleşmede kararlaştırılmışsa ay olarak girin (en çok 2 ay; toplu iş sözleşmesiyle 4 aya kadar).
B9: 2. Kontrol Listesi sayfasındaki hazır görevleri işletmenize göre düzenleyin; gerekmeyen görevlerin durumunu "Gerek Yok" yapın, yeni görevleri boş satırlara ekleyin.
B10: 3. "Gün (±)" sütunu görevin işe başlama gününe göre zamanını gösterir: -5 başlamadan 5 gün önce, 0 ilk gün, 30 otuzuncu gün demektir. Planlanan Tarih bu değere göre otomatik hesaplanır.
B11: 4. Görev tamamlandıkça Durum sütununu güncelleyin ve tamamlanma tarihini yazın. Planlanan tarihi geçmiş ve tamamlanmamış görevler "Gecikti" olarak kırmızı görünür.
B12: 5. Her çalışan için dosyanın bir kopyasını kullanın; 90. gün sonunda dosyayı çalışanın özlük dosyasına veya İK arşivine kaydedin.
B14: Renk kodları: lacivert başlıklar sütun adlarını, gri zeminli hücreler otomatik hesaplanan formülleri gösterir; bu hücrelere veri girmeyin. Açılır listeli hücrelerde yalnızca listedeki değerler kabul edilir.
B16: Önemli
... B19: Şablonu işletmenize uyarlamak veya İK süreçlerinizi birlikte kurmak için: ikpartner.com · 0538 949 22 87
