Workbook

Sheet Puantaj
B1: Aylık Puantaj Cetveli
B2: Ay: [Ay / Yıl] · Departman: [Departman]
B3: ikpartner.com · Ücretsiz İK şablonu · 0538 949 22 87
A5: Sıra | B5: Sicil No | C5: Ad Soyad | D5: 1 | E5: 2 | F5: 3 | G5: 4 | H5: 5 | I5: 6 | J5: 7 | K5: 8 | L5: 9 | M5: 10 | N5: 11 | O5: 12 | P5: 13 | Q5: 14 | R5: 15 | S5: 16 | T5: 17 | U5: 18 | V5: 19 | W5: 20 | X5: 21 | Y5: 22 | Z5: 23 | AA5: 24 | AB5: 25 | AC5: 26 | AD5: 27 | AE5: 28 | AF5: 29 | AG5: 30 | AH5: 31 | AI5: Çalışılan | AJ5: Tatil | AK5: Yıllık İzin | AL5: Rapor | AM5: Ücretsiz İzin | AN5: Devamsız | AO5: Mazeret | AP5: Kayıtlı Gün | AQ5: Fazla Çalışma (saat) | AR5: Açıklama
A6: 1 | B6: 1001 | C6: Örnek Çalışan | D6: X | E6: X | F6: X | G6: X | H6: X | I6: HT | J6: HT | K6: X | L6: X | M6: Yİ | N6: Yİ | O6: X | P6: HT | Q6: HT | R6: X | S6: X | T6: X | U6: R | V6: X | W6: HT | X6: HT | Y6: X | Z6: X | AA6: X | AB6: X | AC6: X | AD6: HT | AE6: HT | AF6: X | AG6: X | AH6: X | AI6: =IF(C6="","",COUNTIF(D6:AH6,"X")) | AJ6: =IF(C6="","",COUNTIF(D6:AH6,"HT")+COUNTIF(D6:AH6,"GT")) | AK6: =IF(C6="","",COUNTIF(D6:AH6,"Yİ")) | AL6: =IF(C6="","",COUNTIF(D6:AH6,"R")) | AM6: =IF(C6="","",COUNTIF(D6:AH6,"Üİ")) | AN6: =IF(C6="","",COUNTIF(D6:AH6,"D")) | AO6: =IF(C6="","",COUNTIF(D6:AH6,"M")) | AP6: =IF(C6="","",COUNTA(D6:AH6)) | AQ6: 6 | AR6: Örnek satır, silebilirsiniz
A7: 2 | AI7: =IF(C7="","",COUNTIF(D7:AH7,"X")) | AJ7: =IF(C7="","",COUNTIF(D7:AH7,"HT")+COUNTIF(D7:AH7,"GT")) | AK7: =IF(C7="","",COUNTIF(D7:AH7,"Yİ")) | AL7: =IF(C7="","",COUNTIF(D7:AH7,"R")) | AM7: =IF(C7="","",COUNTIF(D7:AH7,"Üİ")) | AN7: =IF(C7="","",COUNTIF(D7:AH7,"D")) | AO7: =IF(C7="","",COUNTIF(D7:AH7,"M")) | AP7: =IF(C7="","",COUNTA(D7:AH7))
A8: 3 | AI8: =IF(C8="","",COUNTIF(D8:AH8,"X")) | AJ8: =IF(C8="","",COUNTIF(D8:AH8,"HT")+COUNTIF(D8:AH8,"GT")) | AK8: =IF(C8="","",COUNTIF(D8:AH8,"Yİ")) | AL8: =IF(C8="","",COUNTIF(D8:AH8,"R")) | AM8: =IF(C8="","",COUNTIF(D8:AH8,"Üİ")) | AN8: =IF(C8="","",COUNTIF(D8:AH8,"D")) | AO8: =IF(C8="","",COUNTIF(D8:AH8,"M")) | AP8: =IF(C8="","",COUNTA(D8:AH8))
A9: 4 | AI9: =IF(C9="","",COUNTIF(D9:AH9,"X")) | AJ9: =IF(C9="","",COUNTIF(D9:AH9,"HT")+COUNTIF(D9:AH9,"GT")) | AK9: =IF(C9="","",COUNTIF(D9:AH9,"Yİ")) | AL9: =IF(C9="","",COUNTIF(D9:AH9,"R")) | AM9: =IF(C9="","",COUNTIF(D9:AH9,"Üİ")) | AN9: =IF(C9="","",COUNTIF(D9:AH9,"D")) | AO9: =IF(C9="","",COUNTIF(D9:AH9,"M")) | AP9: =IF(C9="","",COUNTA(D9:AH9))
A10: 5 | AI10: =IF(C10="","",COUNTIF(D10:AH10,"X")) | AJ10: =IF(C10="","",COUNTIF(D10:AH10,"HT")+COUNTIF(D10:AH10,"GT")) | AK10: =IF(C10="","",COUNTIF(D10:AH10,"Yİ")) | AL10: =IF(C10="","",COUNTIF(D10:AH10,"R")) | AM10: =IF(C10="","",COUNTIF(D10:AH10,"Üİ")) | AN10: =IF(C10="","",COUNTIF(D10:AH10,"D")) | AO10: =IF(C10="","",COUNTIF(D10:AH10,"M")) | AP10: =IF(C10="","",COUNTA(D10:AH10))
A11: 6 | AI11: =IF(C11="","",COUNTIF(D11:AH11,"X")) | AJ11: =IF(C11="","",COUNTIF(D11:AH11,"HT")+COUNTIF(D11:AH11,"GT")) | AK11: =IF(C11="","",COUNTIF(D11:AH11,"Yİ")) | AL11: =IF(C11="","",COUNTIF(D11:AH11,"R")) | AM11: =IF(C11="","",COUNTIF(D11:AH11,"Üİ")) | AN11: =IF(C11="","",COUNTIF(D11:AH11,"D")) | AO11: =IF(C11="","",COUNTIF(D11:AH11,"M")) | AP11: =IF(C11="","",COUNTA(D11:AH11))
A12: 7 | AI12: =IF(C12="","",COUNTIF(D12:AH12,"X")) | AJ12: =IF(C12="","",COUNTIF(D12:AH12,"HT")+COUNTIF(D12:AH12,"GT")) | AK12: =IF(C12="","",COUNTIF(D12:AH12,"Yİ")) | AL12: =IF(C12="","",COUNTIF(D12:AH12,"R")) | AM12: =IF(C12="","",COUNTIF(D12:AH12,"Üİ")) | AN12: =IF(C12="","",COUNTIF(D12:AH12,"D")) | AO12: =IF(C12="","",COUNTIF(D12:AH12,"M")) | AP12: =IF(C12="","",COUNTA(D12:AH12))
A13: 8 | AI13: =IF(C13="","",COUNTIF(D13:AH13,"X")) | AJ13: =IF(C13="","",COUNTIF(D13:AH13,"HT")+COUNTIF(D13:AH13,"GT")) | AK13: =IF(C13="","",COUNTIF(D13:AH13,"Yİ")) | AL13: =IF(C13="","",COUNTIF(D13:AH13,"R")) | AM13: =IF(C13="","",COUNTIF(D13:AH13,"Üİ")) | AN13: =IF(C13="","",COUNTIF(D13:AH13,"D")) | AO13: =IF(C13="","",COUNTIF(D13:AH13,"M")) | AP13: =IF(C13="","",COUNTA(D13:AH13))
A14: 9 | AI14: =IF(C14="","",COUNTIF(D14:AH14,"X")) | AJ14: =IF(C14="","",COUNTIF(D14:AH14,"HT")+COUNTIF(D14:AH14,"GT")) | AK14: =IF(C14="","",COUNTIF(D14:AH14,"Yİ")) | AL14: =IF(C14="","",COUNTIF(D14:AH14,"R")) | AM14: =IF(C14="","",COUNTIF(D14:AH14,"Üİ")) | AN14: =IF(C14="","",COUNTIF(D14:AH14,"D")) | AO14: =IF(C14="","",COUNTIF(D14:AH14,"M")) | AP14: =IF(C14="","",COUNTA(D14:AH14))
A15: 10 | AI15: =IF(C15="","",COUNTIF(D15:AH15,"X")) | AJ15: =IF(C15="","",COUNTIF(D15:AH15,"HT")+COUNTIF(D15:AH15,"GT")) | AK15: =IF(C15="","",COUNTIF(D15:AH15,"Yİ")) | AL15: =IF(C15="","",COUNTIF(D15:AH15,"R")) | AM15: =IF(C15="","",COUNTIF(D15:AH15,"Üİ")) | AN15: =IF(C15="","",COUNTIF(D15:AH15,"D")) | AO15: =IF(C15="","",COUNTIF(D15:AH15,"M")) | AP15: =IF(C15="","",COUNTA(D15:AH15))
A16: 11 | AI16: =IF(C16="","",COUNTIF(D16:AH16,"X")) | AJ16: =IF(C16="","",COUNTIF(D16:AH16,"HT")+COUNTIF(D16:AH16,"GT")) | AK16: =IF(C16="","",COUNTIF(D16:AH16,"Yİ")) | AL16: =IF(C16="","",COUNTIF(D16:AH16,"R")) | AM16: =IF(C16="","",COUNTIF(D16:AH16,"Üİ")) | AN16: =IF(C16="","",COUNTIF(D16:AH16,"D")) | AO16: =IF(C16="","",COUNTIF(D16:AH16,"M")) | AP16: =IF(C16="","",COUNTA(D16:AH16))
A17: 12 | AI17: =IF(C17="","",COUNTIF(D17:AH17,"X")) | AJ17: =IF(C17="","",COUNTIF(D17:AH17,"HT")+COUNTIF(D17:AH17,"GT")) | AK17: =IF(C17="","",COUNTIF(D17:AH17,"Yİ")) | AL17: =IF(C17="","",COUNTIF(D17:AH17,"R")) | AM17: =IF(C17="","",COUNTIF(D17:AH17,"Üİ")) | AN17: =IF(C17="","",COUNTIF(D17:AH17,"D")) | AO17: =IF(C17="","",COUNTIF(D17:AH17,"M")) | AP17: =IF(C17="","",COUNTA(D17:AH17))
A18: 13 | AI18: =IF(C18="","",COUNTIF(D18:AH18,"X")) | AJ18: =IF(C18="","",COUNTIF(D18:AH18,"HT")+COUNTIF(D18:AH18,"GT")) | AK18: =IF(C18="","",COUNTIF(D18:AH18,"Yİ")) | AL18: =IF(C18="","",COUNTIF(D18:AH18,"R")) | AM18: =IF(C18="","",COUNTIF(D18:AH18,"Üİ")) | AN18: =IF(C18="","",COUNTIF(D18:AH18,"D")) | AO18: =IF(C18="","",COUNTIF(D18:AH18,"M")) | AP18: =IF(C18="","",COUNTA(D18:AH18))
... A45: 40 | AI45: =IF(C45="","",COUNTIF(D45:AH45,"X")) | AJ45: =IF(C45="","",COUNTIF(D45:AH45,"HT")+COUNTIF(D45:AH45,"GT")) | AK45: =IF(C45="","",COUNTIF(D45:AH45,"Yİ")) | AL45: =IF(C45="","",COUNTIF(D45:AH45,"R")) | AM45: =IF(C45="","",COUNTIF(D45:AH45,"Üİ")) | AN45: =IF(C45="","",COUNTIF(D45:AH45,"D")) | AO45: =IF(C45="","",COUNTIF(D45:AH45,"M")) | AP45: =IF(C45="","",COUNTA(D45:AH45))
A46: TOPLAM | AI46: =SUM(AI6:AI45) | AJ46: =SUM(AJ6:AJ45) | AK46: =SUM(AK6:AK45) | AL46: =SUM(AL6:AL45) | AM46: =SUM(AM6:AM45) | AN46: =SUM(AN6:AN45) | AO46: =SUM(AO6:AO45) | AQ46: =SUM(AQ6:AQ45)

Sheet Özet
B1: Aylık Puantaj Cetveli
B2: Ay: [Ay / Yıl] · Departman: [Departman]
B3: ikpartner.com · Ücretsiz İK şablonu · 0538 949 22 87
B5: Dönem Bilgileri
B6: Puantaj dönemi | C6: [Ay / Yıl]
B7: Departman / Birim | C7: [Departman]
B8: Ay Toplamları
B9: Kayıtlı çalışan sayısı | C9: =COUNTA('Puantaj'!$C$6:$C$45)
B10: Toplam çalışılan gün | C10: =SUM('Puantaj'!$AI$6:$AI$45)
B11: Toplam yıllık izin günü | C11: =SUM('Puantaj'!$AK$6:$AK$45)
B12: Toplam rapor günü | C12: =SUM('Puantaj'!$AL$6:$AL$45)
B13: Toplam devamsızlık günü | C13: =SUM('Puantaj'!$AN$6:$AN$45) | D13: Devamsızlık için tutanak tutulduğundan emin olun.
B14: Toplam ücretsiz izin günü | C14: =SUM('Puantaj'!$AM$6:$AM$45)
B15: Toplam fazla çalışma (saat) | C15: =SUM('Puantaj'!$AQ$6:$AQ$45) | D15: Yıllık 270 saat sınırını ayrıca izleyin.
B16: Onay
B17: Hazırlayan | C17: [Ad Soyad]
B18: Onaylayan (Birim Yöneticisi) | C18: [Ad Soyad]

Sheet Nasıl Kullanılır
B1: Nasıl Kullanılır?
B2: Aylık Puantaj Cetveli
B3: ikpartner.com · Ücretsiz İK şablonu · 0538 949 22 87
B5: Çalışanların aylık devam durumunu gün gün işaretleyip çalışılan gün, izin, rapor ve devamsızlık toplamlarını otomatik hesaplayan puantaj cetveli.
B7: Kullanım adımları
B8: 1. Özet sayfasındaki ay, departman ve onay bilgilerini doldurun.
B9: 2. Puantaj sayfasında her satıra bir çalışan yazın (Sicil No ve Ad Soyad); örnek satırı silin.
B10: 3. Gün sütunlarına açılır listeden kod seçin: X = çalıştı, HT = hafta tatili, GT = genel tatil, Yİ = yıllık izin, R = rapor, Üİ = ücretsiz izin, D = devamsız, M = mazeret izni.
B11: 4. Sağdaki toplam sütunları kodları otomatik sayar; gri hücrelere veri girmeyin. Kayıtlı Gün sütunu, ayın gün sayısıyla eşleşmiyorsa eksik işaretleme vardır.
B12: 5. Ay 31 günden kısaysa fazla gün sütunlarını boş bırakın.
B13: 6. Fazla çalışma saatlerini günlük kayıtlardan toplayıp Fazla Çalışma (saat) sütununa yazın; yıllık 270 saat sınırını ayrıca izleyin.
B14: 7. Devamsızlık (D) işaretlenen günler için tutanak tutulduğundan emin olun.
... B22: Şablonu işletmenize uyarlamak veya İK süreçlerinizi birlikte kurmak için: ikpartner.com · 0538 949 22 87
